BEGIN:VCALENDAR
VERSION:2.0
PRODID:-//Virginia Head Start Association - ECPv6.15.20//NONSGML v1.0//EN
CALSCALE:GREGORIAN
METHOD:PUBLISH
X-WR-CALNAME:Virginia Head Start Association
X-ORIGINAL-URL:https://headstartva.org
X-WR-CALDESC:Events for Virginia Head Start Association
REFRESH-INTERVAL;VALUE=DURATION:PT1H
X-Robots-Tag:noindex
X-PUBLISHED-TTL:PT1H
BEGIN:VTIMEZONE
TZID:UTC
BEGIN:STANDARD
TZOFFSETFROM:+0000
TZOFFSETTO:+0000
TZNAME:UTC
DTSTART:20230101T000000
END:STANDARD
END:VTIMEZONE
BEGIN:VEVENT
DTSTART;TZID=UTC:20240919T130000
DTEND;TZID=UTC:20241106T143000
DTSTAMP:20260421T113418
CREATED:20240802T134544Z
LAST-MODIFIED:20240802T135030Z
UID:8833-1726750800-1730903400@headstartva.org
SUMMARY:Health Services Network (HSN) Meeting (Virtual)
DESCRIPTION:HOW\n\nTo join the email distribution list for the Health Services Network you must enroll by completing this Smartsheet Form.\nAt any point if you wish to unsubscribe\, please email info@headstartva.org  to be removed from the list.
URL:https://headstartva.org/event/health-services-network-hsn-meeting-virtual/
CATEGORIES:Networks
ATTACH;FMTTYPE=image/jpeg:https://headstartva.org/wp-content/uploads/2021/12/Directors-Networking-Meetings-scaled-e1722606615944.jpeg
END:VEVENT
BEGIN:VEVENT
DTSTART;TZID=UTC:20241022T101500
DTEND;TZID=UTC:20241022T114500
DTSTAMP:20260421T113418
CREATED:20240802T135242Z
LAST-MODIFIED:20240802T135242Z
UID:8835-1729592100-1729597500@headstartva.org
SUMMARY:Health Services Network (HSN) Meeting: Onsite (VAHSA Annual Conference-Harrisonburg\, VA)
DESCRIPTION:HOW\n\nTo join the email distribution list for the Health Services Network you must enroll by completing this Smartsheet Form.\nAt any point if you wish to unsubscribe\, please email info@headstartva.org  to be removed from the list.
URL:https://headstartva.org/event/health-services-network-hsn-meeting-onsite-vahsa-annual-conference-harrisonburg-va/
LOCATION:Hotel Madison\, 710 S Main St\, Harrisonburg\, Virginia\, 22801
CATEGORIES:Networks
ATTACH;FMTTYPE=image/jpeg:https://headstartva.org/wp-content/uploads/2021/12/Directors-Networking-Meetings-scaled-e1722606615944.jpeg
END:VEVENT
BEGIN:VEVENT
DTSTART;TZID=UTC:20241022T101500
DTEND;TZID=UTC:20241022T114500
DTSTAMP:20260421T113418
CREATED:20241114T140310Z
LAST-MODIFIED:20240806T182507Z
UID:8679-1729592100-1729597500@headstartva.org
SUMMARY:Family Services Network Meeting: Onsite (VAHSA Annual Conference - Harrisonburg\, VA)
DESCRIPTION:WHEN\nThe Virginia Head Start Association Family Services Network meets quarterly on Zoom. \nHOW\n\nTo join the email distribution list for the Family Services Network\, and to gain access to the Family Services Dashboard\, you must enroll by completing this Smartsheet Form.
URL:https://headstartva.org/event/family-services-network-meeting-virtual-7/
LOCATION:Hotel Madison\, 710 S Main St\, Harrisonburg\, Virginia\, 22801
CATEGORIES:Networks
ATTACH;FMTTYPE=image/jpeg:https://headstartva.org/wp-content/uploads/2021/12/Family-Services-Networking-Meetings.jpeg
END:VEVENT
BEGIN:VEVENT
DTSTART;TZID=UTC:20241022T104500
DTEND;TZID=UTC:20241022T111500
DTSTAMP:20260421T113418
CREATED:20240620T133838Z
LAST-MODIFIED:20240806T182200Z
UID:8734-1729593900-1729595700@headstartva.org
SUMMARY:Education Network Meeting: Onsite (VAHSA Annual Conference - Harrisonburg\, VA)
DESCRIPTION:These meetings are virtual and are the 4th Thursday of the month from 1:00-2:30. \nPlease CLICK HERE to submit your email to register for this network. You will then receive zoom links to join meetings as it gets closer to a meeting date. If you have any questions\, please email info@headstartva.org
URL:https://headstartva.org/event/education-coordinator-network-virtual/
LOCATION:Hotel Madison\, 710 S Main St\, Harrisonburg\, Virginia\, 22801
CATEGORIES:Networks
ATTACH;FMTTYPE=image/jpeg:https://headstartva.org/wp-content/uploads/2023/09/Building-Professional-Development-Copy-scaled.jpeg
END:VEVENT
END:VCALENDAR