BEGIN:VCALENDAR
VERSION:2.0
PRODID:-//Virginia Head Start Association - ECPv6.15.20//NONSGML v1.0//EN
CALSCALE:GREGORIAN
METHOD:PUBLISH
X-WR-CALNAME:Virginia Head Start Association
X-ORIGINAL-URL:https://headstartva.org
X-WR-CALDESC:Events for Virginia Head Start Association
REFRESH-INTERVAL;VALUE=DURATION:PT1H
X-Robots-Tag:noindex
X-PUBLISHED-TTL:PT1H
BEGIN:VTIMEZONE
TZID:UTC
BEGIN:STANDARD
TZOFFSETFROM:+0000
TZOFFSETTO:+0000
TZNAME:UTC
DTSTART:20220101T000000
END:STANDARD
END:VTIMEZONE
BEGIN:VEVENT
DTSTART;TZID=UTC:20240926T130000
DTEND;TZID=UTC:20240926T143000
DTSTAMP:20260421T115010
CREATED:20240620T133721Z
LAST-MODIFIED:20240620T133752Z
UID:8731-1727355600-1727361000@headstartva.org
SUMMARY:Education Coordinator Network (Virtual)
DESCRIPTION:These meetings are virtual and are the 4th Thursday of the month from 1:00-2:30. \nPlease CLICK HERE to submit your email to register for this network. You will then receive zoom links to join meetings as it gets closer to a meeting date. If you have any questions\, please email info@headstartva.org
URL:https://headstartva.org/event/education-coordinator-network-virtual-meeting-6/
CATEGORIES:Networks
ATTACH;FMTTYPE=image/jpeg:https://headstartva.org/wp-content/uploads/2023/09/Building-Professional-Development-Copy-scaled.jpeg
END:VEVENT
BEGIN:VEVENT
DTSTART;TZID=UTC:20240912T130000
DTEND;TZID=UTC:20240912T143000
DTSTAMP:20260421T115010
CREATED:20240515T140255Z
LAST-MODIFIED:20240515T140255Z
UID:8677-1726146000-1726151400@headstartva.org
SUMMARY:Family Services Network Meeting (Virtual)
DESCRIPTION:WHEN\nThe Virginia Head Start Association Family Services Network meets quarterly on Zoom. \nHOW\n\nTo join the email distribution list for the Family Services Network\, and to gain access to the Family Services Dashboard\, you must enroll by completing this Smartsheet Form.
URL:https://headstartva.org/event/family-services-network-meeting-virtual-6/
CATEGORIES:Networks
ATTACH;FMTTYPE=image/jpeg:https://headstartva.org/wp-content/uploads/2021/12/Family-Services-Networking-Meetings.jpeg
END:VEVENT
BEGIN:VEVENT
DTSTART;TZID=UTC:20240618T080000
DTEND;TZID=UTC:20240620T170000
DTSTAMP:20260421T115010
CREATED:20240501T150017Z
LAST-MODIFIED:20240515T140639Z
UID:8658-1718697600-1718902800@headstartva.org
SUMMARY:Directors Conference 2024 (Virginia Beach)
DESCRIPTION:
URL:https://headstartva.org/event/directors-conference-2024/
LOCATION:Sheraton Oceanfront Virginia Beach\, 3501 Atlantic Ave\, Virginia Beach\, VA\, 23451\, United States
CATEGORIES:Conferences
ATTACH;FMTTYPE=image/png:https://headstartva.org/wp-content/uploads/2024/03/Directors-Conference-2024-Logo-New-screenshot.png
END:VEVENT
BEGIN:VEVENT
DTSTART;TZID=UTC:20240617T123000
DTEND;TZID=UTC:20240617T160000
DTSTAMP:20260421T115010
CREATED:20240501T150303Z
LAST-MODIFIED:20240501T151241Z
UID:8661-1718627400-1718640000@headstartva.org
SUMMARY:VAHSA Board Meeting: In Person with Virtual Option
DESCRIPTION:  \nThis VAHSA Board meeting will take place at the Sheraton Oceanfront as part of our 2024 Directors Conference. There is also a virtual option. Any questions please email Dawn:dault@headstartva.org
URL:https://headstartva.org/event/vahsa-board-meeting-in-person-with-virtual-option/
ATTACH;FMTTYPE=image/png:https://headstartva.org/wp-content/uploads/2024/05/Untitled-design-2.png
END:VEVENT
BEGIN:VEVENT
DTSTART;TZID=UTC:20240606T130000
DTEND;TZID=UTC:20240606T143000
DTSTAMP:20260421T115010
CREATED:20231115T223747Z
LAST-MODIFIED:20240515T140116Z
UID:8428-1717678800-1717684200@headstartva.org
SUMMARY:Health Advisory Committee Meeting (Virtual)
DESCRIPTION:If you are on this committee you will receive a zoom invite in advance of the meeting date. If you have any questions\, please email Dawn at dault@headstartva.org. \n  \nThis meeting will be in person with a Virtual Option \n\nLocation: Zoom invite
URL:https://headstartva.org/event/health-advisory-committee-meeting-in-person-with-virtual-option-2/
CATEGORIES:Networks
ATTACH;FMTTYPE=image/webp:https://headstartva.org/wp-content/uploads/2023/09/HealthHumanServices_fw.webp
END:VEVENT
BEGIN:VEVENT
DTSTART;TZID=UTC:20240521T130000
DTEND;TZID=UTC:20240521T143000
DTSTAMP:20260421T115010
CREATED:20231115T221652Z
LAST-MODIFIED:20240515T140138Z
UID:8414-1716296400-1716301800@headstartva.org
SUMMARY:Education Coordinator Network Meeting (Virtual)
DESCRIPTION:Please CLICK HERE to submit your email to register for this network. You will then receive zoom links to join meetings as it gets closer to a meeting date. If you have any questions\, please email info@headstartva.org
URL:https://headstartva.org/event/education-coordinator-network-virtual-meeting-5/
CATEGORIES:Networks
ATTACH;FMTTYPE=image/jpeg:https://headstartva.org/wp-content/uploads/2023/09/Building-Professional-Development-Copy-scaled.jpeg
END:VEVENT
BEGIN:VEVENT
DTSTART;TZID=UTC:20240509T130000
DTEND;TZID=UTC:20240509T143000
DTSTAMP:20260421T115010
CREATED:20231115T222724Z
LAST-MODIFIED:20240515T135710Z
UID:8422-1715259600-1715265000@headstartva.org
SUMMARY:Family Services Network Meeting (Virtual)
DESCRIPTION:Family Services Network Meeting \nVIRTUAL with Zoom Link: 1:00-2:30 pm \nIf you would like to join these meetings\, please email Dawn: dault@headstartva.org
URL:https://headstartva.org/event/family-services-network-meeting-virtual-4/
CATEGORIES:Networks
ATTACH;FMTTYPE=image/jpeg:https://headstartva.org/wp-content/uploads/2022/02/blocks-1.jpg
END:VEVENT
BEGIN:VEVENT
DTSTART;TZID=UTC:20240320T130000
DTEND;TZID=UTC:20240320T150000
DTSTAMP:20260421T115010
CREATED:20231115T223338Z
LAST-MODIFIED:20231115T223502Z
UID:8426-1710939600-1710946800@headstartva.org
SUMMARY:Health Advisory Committee Meeting: In Person only
DESCRIPTION:If you are on this committee you will receive a zoom invite in advance of the meeting date. If you have any questions\, please email Dawn at dault@headstartva.org. \n  \nThis meeting will be in person at our Health and Family Institute. Must be registered for event to attend. \n\nLocation: Hillsdale Conference Center\, 550 Hillsdale Drive\, Charlottesville\, VA 22901
URL:https://headstartva.org/event/health-advisory-committee-meeting-in-person-only/
CATEGORIES:Networks
ATTACH;FMTTYPE=image/webp:https://headstartva.org/wp-content/uploads/2023/09/HealthHumanServices_fw.webp
END:VEVENT
BEGIN:VEVENT
DTSTART;TZID=UTC:20240319T130000
DTEND;TZID=UTC:20240319T143000
DTSTAMP:20260421T115010
CREATED:20231115T221602Z
LAST-MODIFIED:20240515T140205Z
UID:8412-1710853200-1710858600@headstartva.org
SUMMARY:Education Coordinator Network Meeting (Virtual)
DESCRIPTION:Please CLICK HERE to submit your email to register for this network. You will then receive zoom links to join meetings as it gets closer to a meeting date. If you have any questions\, please email info@headstartva.org
URL:https://headstartva.org/event/education-coordinator-network-virtual-meeting-4/
CATEGORIES:Networks
ATTACH;FMTTYPE=image/jpeg:https://headstartva.org/wp-content/uploads/2023/09/Building-Professional-Development-Copy-scaled.jpeg
END:VEVENT
BEGIN:VEVENT
DTSTART;TZID=UTC:20240319T080000
DTEND;TZID=UTC:20240320T170000
DTSTAMP:20260421T115010
CREATED:20231115T220526Z
LAST-MODIFIED:20231115T220749Z
UID:8404-1710835200-1710954000@headstartva.org
SUMMARY:Health and Family Institute 2024
DESCRIPTION:Save the Date! Our March 19th and 20th Health and Family Institute is coming to Charlottesville\, Virginia. Our theme is “Healthy Families: Differences Enhance Greatness.” Be part of our training to promote health equity and opportunity for all families. Watch for registration info on our website soon! \nExcellent opportunity for health managers and family service workers to connect with their Head Start colleagues from around the state to gain insight\, learn from practitioners\, researchers\, and keep that spark in your heart with motivational speakers.
URL:https://headstartva.org/event/health-and-family-institute-2024/
LOCATION:Hillsdale Conference Center\, 550 Hillsdale Dr\, Charlottesville\, VA\, 22901\, United States
CATEGORIES:Conferences
ATTACH;FMTTYPE=image/png:https://headstartva.org/wp-content/uploads/2023/11/SAVE-THE-DATE-Health-and-Family-Institute-2024-002.png
END:VEVENT
BEGIN:VEVENT
DTSTART;TZID=UTC:20240314T130000
DTEND;TZID=UTC:20240314T143000
DTSTAMP:20260421T115010
CREATED:20231115T222607Z
LAST-MODIFIED:20231115T222607Z
UID:8420-1710421200-1710426600@headstartva.org
SUMMARY:Family Services Network Meeting (Virtual)
DESCRIPTION:Family Services Manager & Home-Base Coordinator Network Meeting \nVIRTUAL with Zoom Link: 1:00-2:30 pm \nIf you would like to join these meetings\, please email Dawn: dault@headstartva.org
URL:https://headstartva.org/event/family-services-network-meeting-virtual-3/
CATEGORIES:Networks
ATTACH;FMTTYPE=image/jpeg:https://headstartva.org/wp-content/uploads/2022/02/blocks-1.jpg
END:VEVENT
BEGIN:VEVENT
DTSTART;TZID=UTC:20240125T130000
DTEND;TZID=UTC:20240125T150000
DTSTAMP:20260421T115010
CREATED:20231115T223100Z
LAST-MODIFIED:20231115T223100Z
UID:8424-1706187600-1706194800@headstartva.org
SUMMARY:Health Advisory Committee Meeting: In Person with Virtual Option
DESCRIPTION:If you are on this committee you will receive a zoom invite in advance of the meeting date. If you have any questions\, please email Dawn at dault@headstartva.org. \n  \nThis meeting will be in person with a Virtual Option \n\nLocation: Stafford County Head Start Program
URL:https://headstartva.org/event/health-advisory-committee-meeting-in-person-with-virtual-option/
CATEGORIES:Networks
ATTACH;FMTTYPE=image/webp:https://headstartva.org/wp-content/uploads/2023/09/HealthHumanServices_fw.webp
END:VEVENT
BEGIN:VEVENT
DTSTART;TZID=UTC:20240116T130000
DTEND;TZID=UTC:20240116T143000
DTSTAMP:20260421T115010
CREATED:20231115T221341Z
LAST-MODIFIED:20231115T221341Z
UID:8410-1705410000-1705415400@headstartva.org
SUMMARY:Education Coordinator Network (Virtual Meeting)
DESCRIPTION:Please CLICK HERE to submit your email to register for this network. You will then receive zoom links to join meetings as it gets closer to a meeting date. If you have any questions\, please email info@headstartva.org
URL:https://headstartva.org/event/education-coordinator-network-virtual-meeting-3/
CATEGORIES:Networks
ATTACH;FMTTYPE=image/jpeg:https://headstartva.org/wp-content/uploads/2023/09/Building-Professional-Development-Copy-scaled.jpeg
END:VEVENT
BEGIN:VEVENT
DTSTART;TZID=UTC:20240111T130000
DTEND;TZID=UTC:20240111T143000
DTSTAMP:20260421T115010
CREATED:20231115T222438Z
LAST-MODIFIED:20231115T222438Z
UID:8418-1704978000-1704983400@headstartva.org
SUMMARY:Family Services Network Meeting (Virtual)
DESCRIPTION:Family Services Manager & Home-Base Coordinator Network Meeting \nVIRTUAL with Zoom Link: 1:00-2:30 pm \nIf you would like to join these meetings\, please email Dawn: dault@headstartva.org
URL:https://headstartva.org/event/family-services-network-meeting-virtual-2/
CATEGORIES:Networks
ATTACH;FMTTYPE=image/jpeg:https://headstartva.org/wp-content/uploads/2022/02/blocks-1.jpg
END:VEVENT
BEGIN:VEVENT
DTSTART;TZID=UTC:20240105T100000
DTEND;TZID=UTC:20240105T110000
DTSTAMP:20260421T115010
CREATED:20231115T215859Z
LAST-MODIFIED:20231115T215859Z
UID:8402-1704448800-1704452400@headstartva.org
SUMMARY:Directors Network Meeting (Virtual)
DESCRIPTION:Our Director’s Network meets via Zoom every week during school year at 10:00 am to discuss relevant topics for early childhood development and program governance. We also ask questions and brainstorm ideas via email listserv on a regular basis. If you are a Director and would like to join these meetings\, please email Dawn: dault@headstartva.org
URL:https://headstartva.org/event/directors-network-meeting-virtual-5/
CATEGORIES:Networks
ATTACH;FMTTYPE=image/jpeg:https://headstartva.org/wp-content/uploads/2022/02/Upcoming-Conferences.jpg
END:VEVENT
BEGIN:VEVENT
DTSTART;TZID=UTC:20231215T100000
DTEND;TZID=UTC:20231215T110000
DTSTAMP:20260421T115010
CREATED:20231115T215740Z
LAST-MODIFIED:20231115T215740Z
UID:8400-1702634400-1702638000@headstartva.org
SUMMARY:Directors Network Meeting (Virtual)
DESCRIPTION:Our Director’s Network meets via Zoom every week during school year at 10:00 am to discuss relevant topics for early childhood development and program governance. We also ask questions and brainstorm ideas via email listserv on a regular basis. If you are a Director and would like to join these meetings\, please email Dawn: dault@headstartva.org
URL:https://headstartva.org/event/directors-network-meeting-virtual-4/
CATEGORIES:Networks
ATTACH;FMTTYPE=image/jpeg:https://headstartva.org/wp-content/uploads/2022/02/Upcoming-Conferences.jpg
END:VEVENT
BEGIN:VEVENT
DTSTART;TZID=UTC:20231208T100000
DTEND;TZID=UTC:20231208T110000
DTSTAMP:20260421T115010
CREATED:20231115T215650Z
LAST-MODIFIED:20231115T215650Z
UID:8398-1702029600-1702033200@headstartva.org
SUMMARY:Directors Network Meeting (Virtual)
DESCRIPTION:Our Director’s Network meets via Zoom every week during school year at 10:00 am to discuss relevant topics for early childhood development and program governance. We also ask questions and brainstorm ideas via email listserv on a regular basis. If you are a Director and would like to join these meetings\, please email Dawn: dault@headstartva.org
URL:https://headstartva.org/event/directors-network-meeting-virtual-3/
CATEGORIES:Networks
ATTACH;FMTTYPE=image/jpeg:https://headstartva.org/wp-content/uploads/2022/02/Upcoming-Conferences.jpg
END:VEVENT
BEGIN:VEVENT
DTSTART;TZID=UTC:20231201T100000
DTEND;TZID=UTC:20231201T110000
DTSTAMP:20260421T115010
CREATED:20231115T215545Z
LAST-MODIFIED:20231115T215545Z
UID:8396-1701424800-1701428400@headstartva.org
SUMMARY:Directors Network Meeting (Virtual)
DESCRIPTION:Our Director’s Network meets via Zoom every week during school year at 10:00 am to discuss relevant topics for early childhood development and program governance. We also ask questions and brainstorm ideas via email listserv on a regular basis. If you are a Director and would like to join these meetings\, please email Dawn: dault@headstartva.org
URL:https://headstartva.org/event/directors-network-meeting-virtual-2/
CATEGORIES:Networks
ATTACH;FMTTYPE=image/jpeg:https://headstartva.org/wp-content/uploads/2022/02/Upcoming-Conferences.jpg
END:VEVENT
BEGIN:VEVENT
DTSTART;TZID=UTC:20231122T130000
DTEND;TZID=UTC:20231122T143000
DTSTAMP:20260421T115010
CREATED:20231115T222257Z
LAST-MODIFIED:20231115T222257Z
UID:8416-1700658000-1700663400@headstartva.org
SUMMARY:Family Services Network Meeting (Virtual)
DESCRIPTION:Family Services Manager & Home-Base Coordinator Network Meeting \nVIRTUAL with Zoom Link: 1:00-2:30 pm \nIf you would like to join these meetings\, please email Dawn: dault@headstartva.org
URL:https://headstartva.org/event/family-services-network-meeting-virtual/
CATEGORIES:Networks
ATTACH;FMTTYPE=image/jpeg:https://headstartva.org/wp-content/uploads/2022/02/blocks-1.jpg
END:VEVENT
BEGIN:VEVENT
DTSTART;TZID=UTC:20231121T130000
DTEND;TZID=UTC:20231121T143000
DTSTAMP:20260421T115010
CREATED:20231115T221146Z
LAST-MODIFIED:20231115T221146Z
UID:8408-1700571600-1700577000@headstartva.org
SUMMARY:Education Coordinator Network (Virtual Meeting)
DESCRIPTION:Please CLICK HERE to submit your email to register for this network. You will then receive zoom links to join meetings as it gets closer to a meeting date. If you have any questions\, please email info@headstartva.org
URL:https://headstartva.org/event/education-coordinator-network-virtual-meeting-2/
CATEGORIES:Networks
ATTACH;FMTTYPE=image/jpeg:https://headstartva.org/wp-content/uploads/2023/09/Building-Professional-Development-Copy-scaled.jpeg
END:VEVENT
BEGIN:VEVENT
DTSTART;TZID=UTC:20231117T100000
DTEND;TZID=UTC:20231117T110000
DTSTAMP:20260421T115010
CREATED:20231115T215255Z
LAST-MODIFIED:20231115T215255Z
UID:8394-1700215200-1700218800@headstartva.org
SUMMARY:Directors Network Meeting (Virtual)
DESCRIPTION:Our Director’s Network meets via Zoom every week during school year at 10:00 am to discuss relevant topics for early childhood development and program governance. We also ask questions and brainstorm ideas via email listserv on a regular basis. If you are a Director and would like to join these meetings\, please email Dawn: dault@headstartva.org
URL:https://headstartva.org/event/directors-network-meeting-virtual/
CATEGORIES:Networks
ATTACH;FMTTYPE=image/jpeg:https://headstartva.org/wp-content/uploads/2022/02/Upcoming-Conferences.jpg
END:VEVENT
BEGIN:VEVENT
DTSTART;VALUE=DATE:20231024
DTEND;VALUE=DATE:20231027
DTSTAMP:20260421T115010
CREATED:20230221T171523Z
LAST-MODIFIED:20230908T182954Z
UID:7433-1698105600-1698364799@headstartva.org
SUMMARY:Annual Conference in Harrisonburg\, VA
DESCRIPTION:
URL:https://headstartva.org/event/annual-conference-in-harrisonburg-va/
LOCATION:Hotel Madison\, 710 S Main St\, Harrisonburg\, Virginia\, 22801
CATEGORIES:Conferences
ATTACH;FMTTYPE=application/pdf:https://headstartva.org/wp-content/uploads/2023/02/Yearly-conference-revised-2.6.23.pdf
END:VEVENT
BEGIN:VEVENT
DTSTART;TZID=UTC:20230922T100000
DTEND;TZID=UTC:20230922T110000
DTSTAMP:20260421T115010
CREATED:20230428T172221Z
LAST-MODIFIED:20230901T181145Z
UID:7782-1695376800-1695380400@headstartva.org
SUMMARY:Directors Network Zoom Meeting: Weekly
DESCRIPTION:Our Director’s Network meets via Zoom every week during school year at 10:00 am to discuss relevant topics for early childhood development and program governance. We also ask questions and brainstorm ideas via email listserv on a regular basis. If you are a Director and would like to join these meetings\, please email Dawn: dault@headstartva.org
URL:https://headstartva.org/event/directors-network-zoom-meeting-weekly-19/
CATEGORIES:Networks
ATTACH;FMTTYPE=image/jpeg:https://headstartva.org/wp-content/uploads/2022/02/Upcoming-Conferences.jpg
END:VEVENT
BEGIN:VEVENT
DTSTART;TZID=UTC:20230921T130000
DTEND;TZID=UTC:20230921T150000
DTSTAMP:20260421T115010
CREATED:20230901T183452Z
LAST-MODIFIED:20230901T183452Z
UID:8227-1695301200-1695308400@headstartva.org
SUMMARY:Health Advisory Committee Meeting (Virtual)
DESCRIPTION:If you are on this committee you will receive a zoom invite in advance of the meeting date. If you have any questions\, please email Dawn at dault@headstartva.org.
URL:https://headstartva.org/event/health-advisory-committee-meeting-virtual/
CATEGORIES:Networks
ATTACH;FMTTYPE=image/webp:https://headstartva.org/wp-content/uploads/2023/09/HealthHumanServices_fw.webp
END:VEVENT
BEGIN:VEVENT
DTSTART;TZID=UTC:20230919T130000
DTEND;TZID=UTC:20230919T143000
DTSTAMP:20260421T115010
CREATED:20230901T182444Z
LAST-MODIFIED:20230901T183122Z
UID:8223-1695128400-1695133800@headstartva.org
SUMMARY:Education Coordinator Network (Virtual Meeting)
DESCRIPTION:Please CLICK HERE to submit your email to register for this network. You will then receive zoom links to join meetings as it gets closer to a meeting date. If you have any questions\, please email info@headstartva.org
URL:https://headstartva.org/event/education-coordinator-network-virtual-meeting/
CATEGORIES:Networks
ATTACH;FMTTYPE=image/jpeg:https://headstartva.org/wp-content/uploads/2023/09/Building-Professional-Development-Copy-scaled.jpeg
END:VEVENT
BEGIN:VEVENT
DTSTART;TZID=UTC:20230914T130000
DTEND;TZID=UTC:20230914T143000
DTSTAMP:20260421T115010
CREATED:20230525T144415Z
LAST-MODIFIED:20230901T182307Z
UID:7837-1694696400-1694701800@headstartva.org
SUMMARY:Family Services Network Meeting (Virtual)
DESCRIPTION:Family Services Manager & Home-Base Coordinator Network Meeting \nVIRTUAL with Zoom Link: 1:00-2:30 pm \nIf you would like to join these meetings\, please email Dawn: dault@headstartva.org
URL:https://headstartva.org/event/family-service-manager-and-home-based-coordinator-meeting-virtual-4/
CATEGORIES:Networks
ATTACH;FMTTYPE=image/jpeg:https://headstartva.org/wp-content/uploads/2022/02/blocks-1.jpg
END:VEVENT
BEGIN:VEVENT
DTSTART;TZID=UTC:20230906T100000
DTEND;TZID=UTC:20230906T110000
DTSTAMP:20260421T115010
CREATED:20230428T172139Z
LAST-MODIFIED:20230428T172139Z
UID:7780-1693994400-1693998000@headstartva.org
SUMMARY:Directors Network Zoom Meeting: Weekly
DESCRIPTION:Summer Directors Zoom Meetings schedule is as follows: \nEvery 2 weeks on Wednesdays\, until Sep 6\, 2023\, 6 occurrence(s) \nRegular Fri 10:00 am meetings resume on Fri Sept 15. \nOur Director’s Network meets via Zoom every week during school year at 10:00 am to discuss relevant topics for early childhood development and program governance. We also ask questions and brainstorm ideas via email listserv on a regular basis. If you are a Director and would like to join these meetings\, please email Dawn: dault@headstartva.org
URL:https://headstartva.org/event/directors-network-zoom-meeting-weekly-18/
CATEGORIES:Networks
ATTACH;FMTTYPE=image/jpeg:https://headstartva.org/wp-content/uploads/2022/02/Upcoming-Conferences.jpg
END:VEVENT
BEGIN:VEVENT
DTSTART;TZID=UTC:20230823T100000
DTEND;TZID=UTC:20230823T110000
DTSTAMP:20260421T115010
CREATED:20230428T172036Z
LAST-MODIFIED:20230428T172036Z
UID:7778-1692784800-1692788400@headstartva.org
SUMMARY:Directors Network Zoom Meeting: Weekly
DESCRIPTION:Summer Directors Zoom Meetings schedule is as follows: \nEvery 2 weeks on Wednesdays\, until Sep 6\, 2023\, 6 occurrence(s) \nOur Director’s Network meets via Zoom every week during school year at 10:00 am to discuss relevant topics for early childhood development and program governance. We also ask questions and brainstorm ideas via email listserv on a regular basis. If you are a Director and would like to join these meetings\, please email Dawn: dault@headstartva.org
URL:https://headstartva.org/event/directors-network-zoom-meeting-weekly-17/
CATEGORIES:Networks
ATTACH;FMTTYPE=image/jpeg:https://headstartva.org/wp-content/uploads/2022/02/Upcoming-Conferences.jpg
END:VEVENT
BEGIN:VEVENT
DTSTART;TZID=UTC:20230809T100000
DTEND;TZID=UTC:20230809T110000
DTSTAMP:20260421T115010
CREATED:20230428T172008Z
LAST-MODIFIED:20230428T172008Z
UID:7776-1691575200-1691578800@headstartva.org
SUMMARY:Directors Network Zoom Meeting: Weekly
DESCRIPTION:Summer Directors Zoom Meetings schedule is as follows: \nEvery 2 weeks on Wednesdays\, until Sep 6\, 2023\, 6 occurrence(s) \nOur Director’s Network meets via Zoom every week during school year at 10:00 am to discuss relevant topics for early childhood development and program governance. We also ask questions and brainstorm ideas via email listserv on a regular basis. If you are a Director and would like to join these meetings\, please email Dawn: dault@headstartva.org
URL:https://headstartva.org/event/directors-network-zoom-meeting-weekly-16/
CATEGORIES:Networks
ATTACH;FMTTYPE=image/jpeg:https://headstartva.org/wp-content/uploads/2022/02/Upcoming-Conferences.jpg
END:VEVENT
BEGIN:VEVENT
DTSTART;VALUE=DATE:20230801
DTEND;VALUE=DATE:20230803
DTSTAMP:20260421T115010
CREATED:20230427T191939Z
LAST-MODIFIED:20230427T192417Z
UID:7759-1690848000-1691020799@headstartva.org
SUMMARY:Board Member Retreat
DESCRIPTION:By invitation only to current board members\, incoming new board members\, and outgoing members. An opportunity for New Board Member Training\, thank you to service of exiting board members\, team building\, and board meeting. \nAugust 1 -2\, 2023 at Wintergreen Resort.
URL:https://headstartva.org/event/board-member-retreat/
ATTACH;FMTTYPE=image/jpeg:https://headstartva.org/wp-content/uploads/2023/04/Wintergreen-Mountains.jpg
END:VEVENT
END:VCALENDAR