BEGIN:VCALENDAR
VERSION:2.0
PRODID:-//Virginia Head Start Association - ECPv6.15.20//NONSGML v1.0//EN
CALSCALE:GREGORIAN
METHOD:PUBLISH
X-ORIGINAL-URL:https://headstartva.org
X-WR-CALDESC:Events for Virginia Head Start Association
REFRESH-INTERVAL;VALUE=DURATION:PT1H
X-Robots-Tag:noindex
X-PUBLISHED-TTL:PT1H
BEGIN:VTIMEZONE
TZID:UTC
BEGIN:STANDARD
TZOFFSETFROM:+0000
TZOFFSETTO:+0000
TZNAME:UTC
DTSTART:20230101T000000
END:STANDARD
END:VTIMEZONE
BEGIN:VEVENT
DTSTART;TZID=UTC:20240919T130000
DTEND;TZID=UTC:20241106T143000
DTSTAMP:20260421T181300
CREATED:20240802T134544Z
LAST-MODIFIED:20240802T135030Z
UID:8833-1726750800-1730903400@headstartva.org
SUMMARY:Health Services Network (HSN) Meeting (Virtual)
DESCRIPTION:HOW\n\nTo join the email distribution list for the Health Services Network you must enroll by completing this Smartsheet Form.\nAt any point if you wish to unsubscribe\, please email info@headstartva.org  to be removed from the list.
URL:https://headstartva.org/event/health-services-network-hsn-meeting-virtual/
CATEGORIES:Networks
ATTACH;FMTTYPE=image/jpeg:https://headstartva.org/wp-content/uploads/2021/12/Directors-Networking-Meetings-scaled-e1722606615944.jpeg
END:VEVENT
BEGIN:VEVENT
DTSTART;TZID=UTC:20241121T130000
DTEND;TZID=UTC:20241121T143000
DTSTAMP:20260421T181300
CREATED:20240620T134024Z
LAST-MODIFIED:20240806T181603Z
UID:8738-1732194000-1732199400@headstartva.org
SUMMARY:Education Network (Virtual)
DESCRIPTION:These meetings are virtual and are the 4th Thursday of the month from 1:00-2:30. \nPlease CLICK HERE to submit your email to register for this network. You will then receive zoom links to join meetings as it gets closer to a meeting date. If you have any questions\, please email info@headstartva.org
URL:https://headstartva.org/event/education-coordinator-network-virtual-2/
CATEGORIES:Networks
ATTACH;FMTTYPE=image/jpeg:https://headstartva.org/wp-content/uploads/2023/09/Building-Professional-Development-Copy-scaled.jpeg
END:VEVENT
BEGIN:VEVENT
DTSTART;TZID=UTC:20250109T130000
DTEND;TZID=UTC:20250109T143000
DTSTAMP:20260421T181300
CREATED:20240620T135149Z
LAST-MODIFIED:20240620T135149Z
UID:8753-1736427600-1736433000@headstartva.org
SUMMARY:Family Services Network Meeting (Virtual)
DESCRIPTION:WHEN\nThe Virginia Head Start Association Family Services Network meets quarterly on Zoom. \nHOW\n\nTo join the email distribution list for the Family Services Network\, and to gain access to the Family Services Dashboard\, you must enroll by completing this Smartsheet Form.
URL:https://headstartva.org/event/family-services-network-meeting-virtual-9/
CATEGORIES:Networks
ATTACH;FMTTYPE=image/jpeg:https://headstartva.org/wp-content/uploads/2021/12/Family-Services-Networking-Meetings.jpeg
END:VEVENT
BEGIN:VEVENT
DTSTART;TZID=UTC:20250116T130000
DTEND;TZID=UTC:20250116T143000
DTSTAMP:20260421T181300
CREATED:20240802T135431Z
LAST-MODIFIED:20240802T135431Z
UID:8837-1737032400-1737037800@headstartva.org
SUMMARY:Health Services Network (HSN) Meeting (Virtual)
DESCRIPTION:HOW\n\nTo join the email distribution list for the Health Services Network you must enroll by completing this Smartsheet Form.\nAt any point if you wish to unsubscribe\, please email info@headstartva.org  to be removed from the list.
URL:https://headstartva.org/event/health-services-network-hsn-meeting-virtual-2/
CATEGORIES:Networks
ATTACH;FMTTYPE=image/jpeg:https://headstartva.org/wp-content/uploads/2021/12/Directors-Networking-Meetings-scaled-e1722606615944.jpeg
END:VEVENT
BEGIN:VEVENT
DTSTART;TZID=UTC:20250123T130000
DTEND;TZID=UTC:20250123T143000
DTSTAMP:20260421T181300
CREATED:20240620T134105Z
LAST-MODIFIED:20240806T181553Z
UID:8740-1737637200-1737642600@headstartva.org
SUMMARY:Education Network (Virtual)
DESCRIPTION:These meetings are virtual and are the 4th Thursday of the month from 1:00-2:30. \nPlease CLICK HERE to submit your email to register for this network. You will then receive zoom links to join meetings as it gets closer to a meeting date. If you have any questions\, please email info@headstartva.org
URL:https://headstartva.org/event/education-coordinator-network-virtual-3/
CATEGORIES:Networks
ATTACH;FMTTYPE=image/jpeg:https://headstartva.org/wp-content/uploads/2023/09/Building-Professional-Development-Copy-scaled.jpeg
END:VEVENT
BEGIN:VEVENT
DTSTART;TZID=UTC:20250227T130000
DTEND;TZID=UTC:20250227T143000
DTSTAMP:20260421T181300
CREATED:20240620T134139Z
LAST-MODIFIED:20240806T181543Z
UID:8742-1740661200-1740666600@headstartva.org
SUMMARY:Education Network (Virtual)
DESCRIPTION:These meetings are virtual and are the 4th Thursday of the month from 1:00-2:30. \nPlease CLICK HERE to submit your email to register for this network. You will then receive zoom links to join meetings as it gets closer to a meeting date. If you have any questions\, please email info@headstartva.org
URL:https://headstartva.org/event/education-coordinator-network-virtual-4/
CATEGORIES:Networks
ATTACH;FMTTYPE=image/jpeg:https://headstartva.org/wp-content/uploads/2023/09/Building-Professional-Development-Copy-scaled.jpeg
END:VEVENT
BEGIN:VEVENT
DTSTART;TZID=UTC:20250327T130000
DTEND;TZID=UTC:20250327T143000
DTSTAMP:20260421T181300
CREATED:20240620T134225Z
LAST-MODIFIED:20240806T181524Z
UID:8744-1743080400-1743085800@headstartva.org
SUMMARY:Education Network (Virtual)
DESCRIPTION:These meetings are virtual and are the 4th Thursday of the month from 1:00-2:30. \nPlease CLICK HERE to submit your email to register for this network. You will then receive zoom links to join meetings as it gets closer to a meeting date. If you have any questions\, please email info@headstartva.org
URL:https://headstartva.org/event/education-coordinator-network-virtual-5/
CATEGORIES:Networks
ATTACH;FMTTYPE=image/jpeg:https://headstartva.org/wp-content/uploads/2023/09/Building-Professional-Development-Copy-scaled.jpeg
END:VEVENT
BEGIN:VEVENT
DTSTART;TZID=UTC:20250424T130000
DTEND;TZID=UTC:20250424T143000
DTSTAMP:20260421T181300
CREATED:20240620T134650Z
LAST-MODIFIED:20240806T181459Z
UID:8746-1745499600-1745505000@headstartva.org
SUMMARY:Education Network (Virtual)
DESCRIPTION:These meetings are virtual and are the 4th Thursday of the month from 1:00-2:30. \nPlease CLICK HERE to submit your email to register for this network. You will then receive zoom links to join meetings as it gets closer to a meeting date. If you have any questions\, please email info@headstartva.org
URL:https://headstartva.org/event/education-coordinator-network-virtual-6/
CATEGORIES:Networks
ATTACH;FMTTYPE=image/jpeg:https://headstartva.org/wp-content/uploads/2023/09/Building-Professional-Development-Copy-scaled.jpeg
END:VEVENT
BEGIN:VEVENT
DTSTART;TZID=UTC:20250508T130000
DTEND;TZID=UTC:20250508T143000
DTSTAMP:20260421T181300
CREATED:20240620T135227Z
LAST-MODIFIED:20240620T135227Z
UID:8755-1746709200-1746714600@headstartva.org
SUMMARY:Family Services Network Meeting (Virtual)
DESCRIPTION:WHEN\nThe Virginia Head Start Association Family Services Network meets quarterly on Zoom. \nHOW\n\nTo join the email distribution list for the Family Services Network\, and to gain access to the Family Services Dashboard\, you must enroll by completing this Smartsheet Form.
URL:https://headstartva.org/event/family-services-network-meeting-virtual-10/
CATEGORIES:Networks
ATTACH;FMTTYPE=image/jpeg:https://headstartva.org/wp-content/uploads/2021/12/Family-Services-Networking-Meetings.jpeg
END:VEVENT
BEGIN:VEVENT
DTSTART;TZID=UTC:20250522T130000
DTEND;TZID=UTC:20250522T143000
DTSTAMP:20260421T181300
CREATED:20240620T134753Z
LAST-MODIFIED:20240620T134753Z
UID:8748-1747918800-1747924200@headstartva.org
SUMMARY:Education Coordinator Network (Virtual)
DESCRIPTION:These meetings are virtual and are the 4th Thursday of the month from 1:00-2:30. \nPlease CLICK HERE to submit your email to register for this network. You will then receive zoom links to join meetings as it gets closer to a meeting date. If you have any questions\, please email info@headstartva.org
URL:https://headstartva.org/event/education-coordinator-network-virtual-7/
CATEGORIES:Networks
ATTACH;FMTTYPE=image/jpeg:https://headstartva.org/wp-content/uploads/2023/09/Building-Professional-Development-Copy-scaled.jpeg
END:VEVENT
BEGIN:VEVENT
DTSTART;VALUE=DATE:20250610
DTEND;VALUE=DATE:20250614
DTSTAMP:20260421T181300
CREATED:20240806T190208Z
LAST-MODIFIED:20240806T190208Z
UID:8866-1749513600-1749859199@headstartva.org
SUMMARY:Directors Conference 2025
DESCRIPTION:
URL:https://headstartva.org/event/directors-conference-2025/
LOCATION:Sheraton Oceanfront Virginia Beach\, 3501 Atlantic Ave\, Virginia Beach\, VA\, 23451\, United States
CATEGORIES:Conferences
ATTACH;FMTTYPE=image/png:https://headstartva.org/wp-content/uploads/2024/05/Untitled-design-2.png
END:VEVENT
BEGIN:VEVENT
DTSTART;VALUE=DATE:20260301
DTEND;VALUE=DATE:20260302
DTSTAMP:20260421T181300
CREATED:20260211T201007Z
LAST-MODIFIED:20260211T201713Z
UID:9343-1772323200-1772409599@headstartva.org
SUMMARY:Family Services Certification
DESCRIPTION:This certification provides Head Start family services staff with a chance to demonstrate skills that support family engagement and well-being. \nMeets standard 1302 Subpart E-Family and Community Engagement Program Services of the Head Start Performance Standards in which a program must integrate parent and family engagement strategies into all systems and program services to support family wellbeing and promote children’s learning and development.
URL:https://headstartva.org/event/family-services-certification/
CATEGORIES:Virtual Training
ATTACH;FMTTYPE=image/jpeg:https://headstartva.org/wp-content/uploads/2026/02/Screenshot-2026-02-11-131540.jpg
END:VEVENT
BEGIN:VEVENT
DTSTART;TZID=UTC:20260325T080000
DTEND;TZID=UTC:20260425T170000
DTSTAMP:20260421T181300
CREATED:20260224T022943Z
LAST-MODIFIED:20260224T022943Z
UID:9422-1774425600-1777136400@headstartva.org
SUMMARY:Head Start Manager Bootcamp
DESCRIPTION:
URL:https://headstartva.org/event/head-start-manager-bootcamp/
CATEGORIES:Conferences
ATTACH;FMTTYPE=image/jpeg:https://headstartva.org/wp-content/uploads/2026/02/bootcamp.jpg
END:VEVENT
BEGIN:VEVENT
DTSTART;TZID=UTC:20260501T080000
DTEND;TZID=UTC:20260630T170000
DTSTAMP:20260421T181300
CREATED:20260224T022612Z
LAST-MODIFIED:20260224T181647Z
UID:9419-1777622400-1782838800@headstartva.org
SUMMARY:Academy+
DESCRIPTION:
URL:https://headstartva.org/event/academy/
CATEGORIES:Conferences
ATTACH;FMTTYPE=image/png:https://headstartva.org/wp-content/uploads/2026/02/Academy.png
END:VEVENT
BEGIN:VEVENT
DTSTART;VALUE=DATE:20260616
DTEND;VALUE=DATE:20260619
DTSTAMP:20260421T181300
CREATED:20260211T202209Z
LAST-MODIFIED:20260211T202209Z
UID:9346-1781568000-1781827199@headstartva.org
SUMMARY:Directors Conference
DESCRIPTION:Join us for the Annual Directors Conference. More info coming soon.
URL:https://headstartva.org/event/directors-conference/
LOCATION:Sheraton Oceanfront Virginia Beach\, 3501 Atlantic Ave\, Virginia Beach\, VA\, 23451\, United States
CATEGORIES:Conferences
ATTACH;FMTTYPE=image/jpeg:https://headstartva.org/wp-content/uploads/2026/02/Screenshot-2026-02-11-132041.jpg
END:VEVENT
END:VCALENDAR