BEGIN:VCALENDAR
VERSION:2.0
PRODID:-//Virginia Head Start Association - ECPv6.15.20//NONSGML v1.0//EN
CALSCALE:GREGORIAN
METHOD:PUBLISH
X-WR-CALNAME:Virginia Head Start Association
X-ORIGINAL-URL:https://headstartva.org
X-WR-CALDESC:Events for Virginia Head Start Association
REFRESH-INTERVAL;VALUE=DURATION:PT1H
X-Robots-Tag:noindex
X-PUBLISHED-TTL:PT1H
BEGIN:VTIMEZONE
TZID:UTC
BEGIN:STANDARD
TZOFFSETFROM:+0000
TZOFFSETTO:+0000
TZNAME:UTC
DTSTART:19690101T000000
END:STANDARD
END:VTIMEZONE
BEGIN:VEVENT
DTSTART;TZID=UTC:20230217T100000
DTEND;TZID=UTC:20230217T110000
DTSTAMP:20260421T202315
CREATED:20220930T131607Z
LAST-MODIFIED:20221215T163038Z
UID:3064-1676628000-1676631600@headstartva.org
SUMMARY:Directors Network Zoom Meeting: Weekly
DESCRIPTION:Our Director’s Network meets via Zoom every week during school year at 10:00 am to discuss relevant topics for early childhood development and program governance. We also ask questions and brainstorm ideas via email listserv on a regular basis. If you are a Director and would like to join these meetings\, please email Dawn: dault@headstartva.org
URL:https://headstartva.org/event/directors-network-zoom-meeting-weekly-2/
CATEGORIES:Networks
ATTACH;FMTTYPE=image/jpeg:https://headstartva.org/wp-content/uploads/2022/02/Upcoming-Conferences.jpg
END:VEVENT
BEGIN:VEVENT
DTSTART;TZID=UTC:20230215T130000
DTEND;TZID=UTC:20230215T143000
DTSTAMP:20260421T202315
CREATED:20230106T155136Z
LAST-MODIFIED:20230106T160319Z
UID:6814-1676466000-1676471400@headstartva.org
SUMMARY:Education Coordinator Network Zoom Meeting
DESCRIPTION:
URL:https://headstartva.org/event/education-network-zoom-meeting/
CATEGORIES:Networks
ATTACH;FMTTYPE=image/png:https://headstartva.org/wp-content/uploads/2023/01/White-Minimalist-Business-Digital-Marketing-Tips-Instagram-Post-2.png
END:VEVENT
BEGIN:VEVENT
DTSTART;TZID=UTC:20230210T100000
DTEND;TZID=UTC:20230210T100000
DTSTAMP:20260421T202315
CREATED:20220930T131752Z
LAST-MODIFIED:20221215T163002Z
UID:3066-1676023200-1676023200@headstartva.org
SUMMARY:Directors Network Zoom Meeting: Weekly
DESCRIPTION:Our Director’s Network meets via Zoom every week during school year at 10:00 am to discuss relevant topics for early childhood development and program governance. We also ask questions and brainstorm ideas via email listserv on a regular basis. If you are a Director and would like to join these meetings\, please email Dawn: dault@headstartva.org
URL:https://headstartva.org/event/directors-network-zoom-meeting-weekly-3/
CATEGORIES:Networks
ATTACH;FMTTYPE=image/jpeg:https://headstartva.org/wp-content/uploads/2022/02/Upcoming-Conferences.jpg
END:VEVENT
BEGIN:VEVENT
DTSTART;TZID=UTC:20230207T130000
DTEND;TZID=UTC:20230207T143000
DTSTAMP:20260421T202315
CREATED:20220608T135424Z
LAST-MODIFIED:20221227T152524Z
UID:1624-1675774800-1675780200@headstartva.org
SUMMARY:Family Service Manager and Home-Based Coordinator Meeting (Virtual)
DESCRIPTION:Family Services Manager & Home-Base Coordinator Network Meeting \nVIRTUAL with Zoom Link: First Tuesday of the Month from 1:00-2:30 pm \nIf you would like to join these meetings\, please email Dawn: dault@headstartva.org
URL:https://headstartva.org/event/family-service-manager-and-home-based-coordinator-meeting-virtual-3/
CATEGORIES:Networks
ATTACH;FMTTYPE=image/jpeg:https://headstartva.org/wp-content/uploads/2022/02/blocks-1.jpg
END:VEVENT
BEGIN:VEVENT
DTSTART;TZID=UTC:20230203T100000
DTEND;TZID=UTC:20230203T110000
DTSTAMP:20260421T202315
CREATED:20221215T162919Z
LAST-MODIFIED:20221215T162919Z
UID:6525-1675418400-1675422000@headstartva.org
SUMMARY:Directors Network Zoom Meeting: Weekly
DESCRIPTION:Our Director’s Network meets via Zoom every week during school year at 10:00 am to discuss relevant topics for early childhood development and program governance. We also ask questions and brainstorm ideas via email listserv on a regular basis. If you are a Director and would like to join these meetings\, please email Dawn: dault@headstartva.org
URL:https://headstartva.org/event/directors-network-zoom-meeting-weekly-7/
CATEGORIES:Networks
ATTACH;FMTTYPE=image/jpeg:https://headstartva.org/wp-content/uploads/2022/02/Upcoming-Conferences.jpg
END:VEVENT
BEGIN:VEVENT
DTSTART;TZID=UTC:20230131T130000
DTEND;TZID=UTC:20230131T150000
DTSTAMP:20260421T202315
CREATED:20230105T205356Z
LAST-MODIFIED:20230105T205356Z
UID:6809-1675170000-1675177200@headstartva.org
SUMMARY:Board Meeting
DESCRIPTION:Members of the VAHSA to meet on Zoom \nTues Jan 31\, 1:00-3:00 pm
URL:https://headstartva.org/event/board-meeting/
ATTACH;FMTTYPE=image/webp:https://headstartva.org/wp-content/uploads/2023/01/zoom-meetings-header.webp
END:VEVENT
BEGIN:VEVENT
DTSTART;TZID=UTC:20230127T100000
DTEND;TZID=UTC:20230127T110000
DTSTAMP:20260421T202315
CREATED:20221215T162826Z
LAST-MODIFIED:20221215T162826Z
UID:6526-1674813600-1674817200@headstartva.org
SUMMARY:Directors Network Zoom Meeting: Weekly
DESCRIPTION:Our Director’s Network meets via Zoom every week during school year at 10:00 am to discuss relevant topics for early childhood development and program governance. We also ask questions and brainstorm ideas via email listserv on a regular basis. If you are a Director and would like to join these meetings\, please email Dawn: dault@headstartva.org
URL:https://headstartva.org/event/directors-network-zoom-meeting-weekly-6/
CATEGORIES:Networks
ATTACH;FMTTYPE=image/jpeg:https://headstartva.org/wp-content/uploads/2022/02/Upcoming-Conferences.jpg
END:VEVENT
BEGIN:VEVENT
DTSTART;TZID=UTC:20230120T100000
DTEND;TZID=UTC:20230120T100000
DTSTAMP:20260421T202315
CREATED:20220930T131954Z
LAST-MODIFIED:20221215T162729Z
UID:3068-1674208800-1674208800@headstartva.org
SUMMARY:Directors Network Zoom Meeting: Weekly
DESCRIPTION:Our Director’s Network meets via Zoom every week during school year at 10:00 am to discuss relevant topics for early childhood development and program governance. We also ask questions and brainstorm ideas via email listserv on a regular basis. If you are a Director and would like to join these meetings\, please email Dawn: dault@headstartva.org
URL:https://headstartva.org/event/directors-network-zoom-meeting-weekly-4/
CATEGORIES:Networks
ATTACH;FMTTYPE=image/jpeg:https://headstartva.org/wp-content/uploads/2022/02/Upcoming-Conferences.jpg
END:VEVENT
BEGIN:VEVENT
DTSTART;TZID=UTC:20230119T130000
DTEND;TZID=UTC:20230119T143000
DTSTAMP:20260421T202315
CREATED:20220906T201946Z
LAST-MODIFIED:20220906T202402Z
UID:2113-1674133200-1674138600@headstartva.org
SUMMARY:Family Services Network Zoom
DESCRIPTION:The Virginia Head Start Association Family Service Network meets quarterly on Zoom. Learn more here: https://headstartva.org/networks/family-services-network/ \nEmail dault@headstartva.org to be added to the list to receive link.
URL:https://headstartva.org/event/family-services-network-zoom/
ATTACH;FMTTYPE=image/jpeg:https://headstartva.org/wp-content/uploads/2021/12/Family-Services-Networking-Meetings.jpeg
END:VEVENT
BEGIN:VEVENT
DTSTART;TZID=UTC:20230113T100000
DTEND;TZID=UTC:20230113T110000
DTSTAMP:20260421T202315
CREATED:20230113T100039Z
LAST-MODIFIED:20221215T162849Z
UID:6527-1673604000-1673607600@headstartva.org
SUMMARY:Directors Network Zoom Meeting: Weekly
DESCRIPTION:Our Director’s Network meets via Zoom every week during school year at 10:00 am to discuss relevant topics for early childhood development and program governance. We also ask questions and brainstorm ideas via email listserv on a regular basis. If you are a Director and would like to join these meetings\, please email Dawn: dault@headstartva.org
URL:https://headstartva.org/event/directors-network-zoom-meeting-weekly-5/
CATEGORIES:Networks
ATTACH;FMTTYPE=image/jpeg:https://headstartva.org/wp-content/uploads/2022/02/Upcoming-Conferences.jpg
END:VEVENT
BEGIN:VEVENT
DTSTART;TZID=UTC:20221025T080000
DTEND;TZID=UTC:20221027T170000
DTSTAMP:20260421T202315
CREATED:20211208T124840Z
LAST-MODIFIED:20220223T210829Z
UID:168-1666684800-1666890000@headstartva.org
SUMMARY:VAHSA Annual Conference
DESCRIPTION:VAHSA’s annual conference is our largest attended conference\, typically with 500 people\, serving in all roles in Head Start.  This signature conference focuses on bringing our community a fun and engaging learning experience to support all Head Start service areas. From Head Start parents on Policy Council\, to instructional staff\, to family service workers\, to mental health and health professionals\, to finance and human resources roles\, to directors and all leadership staff; our annual conference provides an interactive\, hands-on learning approach\, surely for all Head Start staff. Our time together is also rich with networking opportunities and discussion and is looked forward to every year. \nClick HERE for more information and how to register for the 2022 VAHSA Annual Conference! 
URL:https://headstartva.org/event/vahsa-annual-conference/
LOCATION:In-person at Renaissance Portsmouth-Norfolk Waterfront Hotel\, VA\, 425 Water St\, Portsmouth\, Virginia\, 23704
CATEGORIES:Conferences
ATTACH;FMTTYPE=image/jpeg:https://headstartva.org/wp-content/uploads/2021/12/VAHSA-Annual-Conference.jpg
END:VEVENT
BEGIN:VEVENT
DTSTART;TZID=UTC:20221007T100000
DTEND;TZID=UTC:20221007T110000
DTSTAMP:20260421T202315
CREATED:20220930T130502Z
LAST-MODIFIED:20220930T130526Z
UID:3059-1665136800-1665140400@headstartva.org
SUMMARY:Directors Network Zoom Meeting: Every Friday
DESCRIPTION:Our Director’s Network meets via Zoom every week during school year at 10:00 am to discuss relevant topics for early childhood development and program governance. We also ask questions and brainstorm ideas via email listserv on a regular basis. If you are a Director and would like to join these meetings\, please email Dawn: dault@headstartva.org
URL:https://headstartva.org/event/directors-network-zoom-meeting-every-friday/
CATEGORIES:Networks
ATTACH;FMTTYPE=image/jpeg:https://headstartva.org/wp-content/uploads/2022/02/Upcoming-Conferences.jpg
END:VEVENT
BEGIN:VEVENT
DTSTART;TZID=UTC:20220930T100000
DTEND;TZID=UTC:20220930T113000
DTSTAMP:20260421T202315
CREATED:20220930T130254Z
LAST-MODIFIED:20220930T130254Z
UID:3057-1664532000-1664537400@headstartva.org
SUMMARY:Directors Network Zoom Meeting: Weekly
DESCRIPTION:Our Director’s Network meets via Zoom every week during school year at 10:00 am to discuss relevant topics for early childhood development and program governance. We also ask questions and brainstorm ideas via email listserv on a regular basis. If you are a Director and would like to join these meetings\, please email Dawn: dault@headstartva.org
URL:https://headstartva.org/event/directors-network-zoom-meeting-weekly/
CATEGORIES:Networks
ATTACH;FMTTYPE=image/jpeg:https://headstartva.org/wp-content/uploads/2022/02/Upcoming-Conferences.jpg
END:VEVENT
BEGIN:VEVENT
DTSTART;TZID=UTC:20220930T100000
DTEND;TZID=UTC:20220930T110000
DTSTAMP:20260421T202315
CREATED:20220719T151046Z
LAST-MODIFIED:20220930T130003Z
UID:1756-1664532000-1664535600@headstartva.org
SUMMARY:Directors Meeting Zoom
DESCRIPTION:Our Director’s Network meets via Zoom every week at 10:00 am to discuss relevant topics for early childhood development and program governance. We also ask questions and brainstorm ideas via email listserv on a regular basis. If you are a Director and would like to join these meetings\, please email Dawn: dault@headstartva.org \n 
URL:https://headstartva.org/event/directors-meeting-zoom-4/
CATEGORIES:Networks
ATTACH;FMTTYPE=image/png:https://headstartva.org/wp-content/uploads/2022/02/unnamed2.png
END:VEVENT
BEGIN:VEVENT
DTSTART;TZID=UTC:20220916T100000
DTEND;TZID=UTC:20220916T110000
DTSTAMP:20260421T202315
CREATED:20220719T151239Z
LAST-MODIFIED:20220719T151239Z
UID:1758-1663322400-1663326000@headstartva.org
SUMMARY:Directors Meeting Zoom
DESCRIPTION:Our Director’s Network meets via Zoom every week at 10:00 am to discuss relevant topics for early childhood development and program governance. We also ask questions and brainstorm ideas via email listserv on a regular basis. If you are a Director and would like to join these meetings\, please email Dawn: dault@headstartva.org \n 
URL:https://headstartva.org/event/directors-meeting-zoom-5/
CATEGORIES:Networks
ATTACH;FMTTYPE=image/png:https://headstartva.org/wp-content/uploads/2022/02/unnamed2.png
END:VEVENT
BEGIN:VEVENT
DTSTART;TZID=UTC:20220824T100000
DTEND;TZID=UTC:20220824T110000
DTSTAMP:20260421T202315
CREATED:20220719T150925Z
LAST-MODIFIED:20220719T150925Z
UID:1754-1661335200-1661338800@headstartva.org
SUMMARY:Directors Meeting Zoom
DESCRIPTION:Our Director’s Network meets via Zoom every week during school year at 10:00 am to discuss relevant topics for early childhood development and program governance. We also ask questions and brainstorm ideas via email listserv on a regular basis. If you are a Director and would like to join these meetings\, please email Dawn: dault@headstartva.org \nNote: we will have a meeting Friday\, July 15 at 10:00 am but then we will be moving to an every-other- week meeting on Wednesdays for the remainder of the summer. We will resume with Friday 10:00 am weekly Zoom meetings in September. Upcoming Wednesday meetings are July 27\, Aug 10\, Aug 24 at 10:00 am. Meetings will shift back to weekly meetings on Fridays\, starting Sept 9. This is in response to many people working 4 ten-hour days and being off on Fridays in the summer.
URL:https://headstartva.org/event/directors-meeting-zoom-3/
CATEGORIES:Networks
ATTACH;FMTTYPE=image/png:https://headstartva.org/wp-content/uploads/2022/02/unnamed2.png
END:VEVENT
BEGIN:VEVENT
DTSTART;TZID=UTC:20220810T100000
DTEND;TZID=UTC:20220810T110000
DTSTAMP:20260421T202315
CREATED:20220719T150712Z
LAST-MODIFIED:20220719T150712Z
UID:1752-1660125600-1660129200@headstartva.org
SUMMARY:Directors Meeting Zoom
DESCRIPTION:Our Director’s Network meets via Zoom every week at 10:00 am to discuss relevant topics for early childhood development and program governance. We also ask questions and brainstorm ideas via email listserv on a regular basis. If you are a Director and would like to join these meetings\, please email Dawn: dault@headstartva.org \nNote: we will have a meeting Friday\, July 15 at 10:00 am but then we will be moving to an every-other- week meeting on Wednesdays for the remainder of the summer. We will resume with Friday 10:00 am weekly Zoom meetings in September. Upcoming Wednesday meetings are July 27\, Aug 10\, Aug 24 at 10:00 am. Meetings will shift back to weekly meetings on Fridays\, starting Sept 9. This is in response to many people working 4 ten-hour days and being off on Fridays in the summer.
URL:https://headstartva.org/event/directors-meeting-zoom-2/
CATEGORIES:Networks
ATTACH;FMTTYPE=image/png:https://headstartva.org/wp-content/uploads/2022/02/unnamed2.png
END:VEVENT
BEGIN:VEVENT
DTSTART;TZID=UTC:20220727T100000
DTEND;TZID=UTC:20220727T110000
DTSTAMP:20260421T202315
CREATED:20220719T150450Z
LAST-MODIFIED:20220719T150450Z
UID:1750-1658916000-1658919600@headstartva.org
SUMMARY:Directors Meeting Zoom
DESCRIPTION:Note: we will have a meeting Friday\, July 15 at 10:00 am but then we will be moving to an every-other- week meeting on Wednesdays for the remainder of the summer. We will resume with Friday 10:00 am weekly Zoom meetings in September. Upcoming Wednesday meetings are July 27\, Aug 10\, Aug 24 at 10:00 am. Meetings will shift back to weekly meetings on Fridays\, starting Sept 9. This is in response to many people working 4 ten-hour days and being off on Fridays in the summer.
URL:https://headstartva.org/event/directors-meeting-zoom/
ATTACH;FMTTYPE=image/png:https://headstartva.org/wp-content/uploads/2022/02/unnamed2.png
END:VEVENT
BEGIN:VEVENT
DTSTART;TZID=UTC:20220715T100000
DTEND;TZID=UTC:20220715T110000
DTSTAMP:20260421T202315
CREATED:20220608T135851Z
LAST-MODIFIED:20220719T150218Z
UID:1632-1657879200-1657882800@headstartva.org
SUMMARY:Directors Network Meeting (Every Friday)
DESCRIPTION:Our Director’s Network meets via Zoom every Friday at 10:00 am to discuss relevant topics for early childhood development and program governance. We also ask questions and brainstorm ideas via email listserv on a regular basis. If you are a Director and would like to join these meetings\, please email Dawn: dault@headstartva.org \nNote: we will have a meeting Friday\, July 15 at 10:00 am but then we will be moving to an every-other- week meeting on Wednesdays for the remainder of the summer. We will resume with Friday 10:00 am weekly Zoom meetings in September. Upcoming Wednesday meetings are July 27\, Aug 10\, Aug 24 at 10:00 am. Meetings will shift back to weekly meetings on Fridays\, starting Sept 9. This is in response to many people working 4 ten-hour days and being off on Fridays in the summer.
URL:https://headstartva.org/event/directors-network-meeting-every-friday-9/
ATTACH;FMTTYPE=image/jpeg:https://headstartva.org/wp-content/uploads/2022/02/Upcoming-Conferences.jpg
END:VEVENT
BEGIN:VEVENT
DTSTART;VALUE=DATE:20220621
DTEND;VALUE=DATE:20220624
DTSTAMP:20260421T202315
CREATED:20211208T125115Z
LAST-MODIFIED:20220315T155446Z
UID:174-1655769600-1656028799@headstartva.org
SUMMARY:Directors Conference
DESCRIPTION:The Directors Conference is an annual highlight for our leadership community. We look forward to this retreat each year so that we can review the previous year’s growths and challenges\, and plan together for the future. \nAll VA Recipient Grantee Directors and Managers are invited and encouraged to attend. This is our longest running conference\, starting back in 2006 in VA Beach\, always the third week in June. \nCLICK HERE for more information about 2022 Directors Conference. 
URL:https://headstartva.org/event/directors-council-conference/
CATEGORIES:Conferences
ATTACH;FMTTYPE=image/png:https://headstartva.org/wp-content/uploads/2022/02/beach.png
END:VEVENT
BEGIN:VEVENT
DTSTART;TZID=UTC:20220607T130000
DTEND;TZID=UTC:20220607T143000
DTSTAMP:20260421T202315
CREATED:20220427T141728Z
LAST-MODIFIED:20220427T141728Z
UID:1528-1654606800-1654612200@headstartva.org
SUMMARY:Family Services Manager & Home-Base Coordinator Network Meeting Zoom
DESCRIPTION:Family Services Manager & Home-Base Coordinator Network Meeting \nTues June 7\, 1:00-2:30 pm
URL:https://headstartva.org/event/family-services-manager-home-base-coordinator-network-meeting-zoom/
CATEGORIES:Networks
ATTACH;FMTTYPE=image/jpeg:https://headstartva.org/wp-content/uploads/2022/02/Upcoming-Conferences.jpg
END:VEVENT
BEGIN:VEVENT
DTSTART;TZID=UTC:20220518T100000
DTEND;TZID=UTC:20220518T120000
DTSTAMP:20260421T202315
CREATED:20220224T180932Z
LAST-MODIFIED:20220330T125106Z
UID:1266-1652868000-1652875200@headstartva.org
SUMMARY:Health Advisory Committee (HAC) Meeting Virtual
DESCRIPTION:HAC Meeting from 10am- 12pm on Zoom. If you are interested in joining\, please email Dawn: dault@headstartva.org to inquire.
URL:https://headstartva.org/event/health-advisory-committee-meeting/
LOCATION:In-person at Renaissance Portsmouth-Norfolk Waterfront Hotel\, VA\, 425 Water St\, Portsmouth\, Virginia\, 23704
CATEGORIES:Networks
ATTACH;FMTTYPE=image/jpeg:https://headstartva.org/wp-content/uploads/2022/02/clinical-visit.jpg
END:VEVENT
BEGIN:VEVENT
DTSTART;VALUE=DATE:20220415
DTEND;VALUE=DATE:20220416
DTSTAMP:20260421T202315
CREATED:20220316T133819Z
LAST-MODIFIED:20220316T134138Z
UID:1404-1649980800-1650067199@headstartva.org
SUMMARY:Scholarship Deadline April 15th
DESCRIPTION:CLICK HERE to read more about The Elmore Scholarship for Head Start Staff Member and Head Start Parent \nCLICK HERE to read more about the High School Senior Scholarship \nDEADLINE: April 15\, 2022. \n 
URL:https://headstartva.org/event/scholarship-deadline-april-15th/
ATTACH;FMTTYPE=image/jpeg:https://headstartva.org/wp-content/uploads/2022/03/mom-graduation-cap-ideas-4.jpg
END:VEVENT
BEGIN:VEVENT
DTSTART;TZID=UTC:20220329T120000
DTEND;TZID=UTC:20220329T125500
DTSTAMP:20260421T202315
CREATED:20211208T124633Z
LAST-MODIFIED:20220224T180831Z
UID:161-1648555200-1648558500@headstartva.org
SUMMARY:Health Advisory Committee Meeting
DESCRIPTION:Join Us for a “Chat and Chew” Lunch time Meeting! \nIf you would like to zoom link for this meeting\, please email: dault@headstartva.org
URL:https://headstartva.org/event/health-advisory-committee-meetings/
LOCATION:In-person at Renaissance Portsmouth-Norfolk Waterfront Hotel\, VA\, 425 Water St\, Portsmouth\, Virginia\, 23704
CATEGORIES:Networks
ATTACH;FMTTYPE=image/jpeg:https://headstartva.org/wp-content/uploads/2021/12/Directors-Networking-Meetings-scaled-e1722606615944.jpeg
END:VEVENT
BEGIN:VEVENT
DTSTART;TZID=UTC:20220318T100000
DTEND;TZID=UTC:20220318T110000
DTSTAMP:20260421T202315
CREATED:20220302T150124Z
LAST-MODIFIED:20220302T150124Z
UID:1349-1647597600-1647601200@headstartva.org
SUMMARY:Directors Network Meeting (Every Friday)
DESCRIPTION:Our Director’s Network meets via Zoom every Friday at 10:00 am to discuss relevant topics for early childhood development and program governance. We also ask questions and brainstorm ideas via email listserv on a regular basis. If you are a Director and would like to join these meetings\, please email Dawn: dault@headstartva.org
URL:https://headstartva.org/event/directors-network-meeting-every-friday-2/
ATTACH;FMTTYPE=image/png:https://headstartva.org/wp-content/uploads/2022/02/unnamed2.png
END:VEVENT
BEGIN:VEVENT
DTSTART;TZID=UTC:20211005T130000
DTEND;TZID=UTC:20211005T150000
DTSTAMP:20260421T202315
CREATED:20211217T111420Z
LAST-MODIFIED:20220223T214105Z
UID:352-1633438800-1633446000@headstartva.org
SUMMARY:Book Series (Multiple Dates)
DESCRIPTION:Together we will identify the right attitude necessary for growth\, learn more about you and your team’s strengths\, tap into your passion\, become more in touch with your purpose and develop your skills. You will be challenged to elevate every area of your life and put in the work to actually grow. \nObjectives:\n– Increase self-awareness of strengths\, weaknesses\, interests and opportunities\n– Identify key principals for success\n– Visualize and create a pre-determined strategy for growth \nClick here for more information about the Book Series 
URL:https://headstartva.org/event/book-series/
LOCATION:In-person at Renaissance Portsmouth-Norfolk Waterfront Hotel\, VA\, 425 Water St\, Portsmouth\, Virginia\, 23704
ATTACH;FMTTYPE=image/jpeg:https://headstartva.org/wp-content/uploads/2021/12/Book-Series-scaled.jpeg
END:VEVENT
BEGIN:VEVENT
DTSTART;TZID=UTC:20260421T202315
DTEND;TZID=UTC:20260421T202315
DTSTAMP:20260421T202315
CREATED:20240802T135605Z
LAST-MODIFIED:20240802T135605Z
UID:8839-0-0@headstartva.org
SUMMARY:Health Services Network (HSN) Meeting: Onsite (VAHSA Heath and Family Institute-Richmond\, VA)
DESCRIPTION:HOW\n\nTo join the email distribution list for the Health Services Network you must enroll by completing this Smartsheet Form.\nAt any point if you wish to unsubscribe\, please email info@headstartva.org  to be removed from the list.
URL:https://headstartva.org/event/health-services-network-hsn-meeting-onsite-vahsa-heath-and-family-institute-richmond-va/
CATEGORIES:Networks
ATTACH;FMTTYPE=image/jpeg:https://headstartva.org/wp-content/uploads/2021/12/Directors-Networking-Meetings-scaled-e1722606615944.jpeg
END:VEVENT
END:VCALENDAR